BEGIN:VCALENDAR
VERSION:2.0
PRODID:-//Association of International Boudoir Photographers - ECPv6.15.19//NONSGML v1.0//EN
CALSCALE:GREGORIAN
METHOD:PUBLISH
X-ORIGINAL-URL:https://aibphotog.com
X-WR-CALDESC:Events for Association of International Boudoir Photographers
REFRESH-INTERVAL;VALUE=DURATION:PT1H
X-Robots-Tag:noindex
X-PUBLISHED-TTL:PT1H
BEGIN:VTIMEZONE
TZID:America/New_York
BEGIN:DAYLIGHT
TZOFFSETFROM:-0500
TZOFFSETTO:-0400
TZNAME:EDT
DTSTART:20250309T070000
END:DAYLIGHT
BEGIN:STANDARD
TZOFFSETFROM:-0400
TZOFFSETTO:-0500
TZNAME:EST
DTSTART:20251102T060000
END:STANDARD
BEGIN:DAYLIGHT
TZOFFSETFROM:-0500
TZOFFSETTO:-0400
TZNAME:EDT
DTSTART:20260308T070000
END:DAYLIGHT
BEGIN:STANDARD
TZOFFSETFROM:-0400
TZOFFSETTO:-0500
TZNAME:EST
DTSTART:20261101T060000
END:STANDARD
BEGIN:DAYLIGHT
TZOFFSETFROM:-0500
TZOFFSETTO:-0400
TZNAME:EDT
DTSTART:20270314T070000
END:DAYLIGHT
BEGIN:STANDARD
TZOFFSETFROM:-0400
TZOFFSETTO:-0500
TZNAME:EST
DTSTART:20271107T060000
END:STANDARD
END:VTIMEZONE
BEGIN:VEVENT
DTSTART;TZID=America/New_York:20260326T193000
DTEND;TZID=America/New_York:20260326T213000
DTSTAMP:20260423T005538
CREATED:20260318T150804Z
LAST-MODIFIED:20260318T150809Z
UID:263476-1774553400-1774560600@aibphotog.com
SUMMARY:March Live Image Critique 2026
DESCRIPTION:Live Image Critiques\nLive Image Critiques with Whitney Minten \nWhen: Thurs March 26th 7:30m EST / 4:30pm PSTWho: AIBP Members \nUp to 20 images will be accepted first come first serve \nSubmit Images: HERE \nLIVE will be streamed into the FB AIBP Community \n  \n  \n  \n			\n			\n				\n				\n				\n				\n			\n				\n				\n				\n				\n				\n				\n				\n				\n				\n				\n				\n			\n			\n				\n				\n				\n				\n				\n				\n				\n				\n				\n				About Whitney \nWhitney Minten is a portrait photographer based in Wisconsin. With a background in robotics and engineering\, she approaches photography with a strong technical foundation in light\, cameras\, and imaging systems. \nShe builds and maintains e-commerce architecture and technical infrastructure for Baby Dream Backdrops\, where she also serves as an ambassador and designer liaison.
URL:https://aibphotog.com/event/march-live-image-critique-2026/
CATEGORIES:Live Image Critiques
ATTACH;FMTTYPE=image/png:https://aibphotog.com/wp-content/uploads/2026/03/AIBP-Live-Image-CritiquesFacebook-Post-1.png
END:VEVENT
BEGIN:VEVENT
DTSTART;TZID=America/New_York:20260423T193000
DTEND;TZID=America/New_York:20260423T213000
DTSTAMP:20260423T005538
CREATED:20260420T154312Z
LAST-MODIFIED:20260420T154315Z
UID:263753-1776972600-1776979800@aibphotog.com
SUMMARY:April Live Image Critique 2026
DESCRIPTION:Live Image Critiques\nLive Image Critiques with Whitney Minten \nWhen: Thurs April 23rd 7:30m EST / 4:30pm PSTWho: AIBP Members \nUp to 20 images will be accepted first come first serve \nSubmit Images: HERE \nLIVE will be streamed into the FB AIBP Community \n  \n  \n  \n			\n			\n				\n				\n				\n				\n			\n				\n				\n				\n				\n				\n				\n				\n				\n				\n				\n				\n			\n			\n				\n				\n				\n				\n				\n				\n				\n				\n				\n				Jacqueline Tobin has worked in the photo industry for the past 37 years\, kickstarting her illustrious career at the industry bible Photo District News and quickly moving up the editorial ladder there\, as Associate Editor\, Photo Editor\, Managing Editor and\, finally\, Deputy Editor. \nAfter 25 years at PDN\, Jacqueline was handpicked by then publisher Lauren Wendle to take over PDN’s sister publication\, Rangefinder\, where she served as Editor-in-Chief for 12 years and successfully transitioned the 70-year-old print magazine in 2020 to a thriving website and digital brand. During this time\, she managed to write two successful photo business books—Wedding Photography Unveiled: Inspiration and Insight From 20 Top Photographers (Amphoto\, 2009) and The Luminous Portrait: Capture The Beauty of Natural Light for Glowing\, Flattering Photographs (with Elizabeth Messina\, Amphoto\, 2012)—with the latter publishing as a second edition in Chinese.
URL:https://aibphotog.com/event/april-live-image-critique-2026/
CATEGORIES:Live Image Critiques
ATTACH;FMTTYPE=image/jpeg:https://aibphotog.com/wp-content/uploads/2026/04/AIBP-Live-Image-CritiquesFacebook-Post-1.jpg
END:VEVENT
BEGIN:VEVENT
DTSTART;VALUE=DATE:20261113
DTEND;VALUE=DATE:20261117
DTSTAMP:20260423T005538
CREATED:20251114T172713Z
LAST-MODIFIED:20251114T172716Z
UID:261880-1794528000-1794873599@aibphotog.com
SUMMARY:AIBP RETREAT BOSTON 2026
DESCRIPTION:  \nFriday\, Nov. 13th\, 2026 - Monday\, Nov 16th\, 2026\nJoin us in Boston & Salem MA for the 10th Annual AIBP Retreat to Create\, Learn & Connect. \nTopics to include:Studio & Natural LightingPosingMarketingClient ExperienceIPS / SellingAnd More.... \n			\n			\n				\n				\n				\n				\n			\n				\n				\n				\n				\n				\n				\n				\n				\n				\n				\n				Immerse yourself in the experience:Shooting opportunities with instructionNetwork with colleagues & educators \nSeats are very limited!Secure yours today \nPurchase Ticket \nCheck out the schedule! \n  \n			\n			\n				\n				\n				\n				\n				\n				\n				\n				\n				\n				\n			\n				2025  Schedule\n			\n			\n				\n				\n				\n				\n			\n				\n				\n				\n				\n				\n				\n				\n				\n				\n				\n				2026 EDUCATORS COMING SOON\n			\n			\n				\n				\n				\n				\n			\n				\n				\n				\n				\n				\n				\n				\n				\n				\n				\n				\nRETREAT PRICING\nRetreat Seat Paid in Full: $2100Retreat Seat Payment Plan: $2160 - 4 payments of $540 spilt equally.  Details in registration form. \nAIBP MEMBERS: Log into your account to get your personal code for $150 off. \nPurchase Ticket \n  \n**Limited number of seats available. \nLodging\nClosest & Recommended Hotels - Rates & Policies may vary\, please check sites for details.Address of events is 58 Pulaski Street\, Peabody MA. \nA LIMITED room block has been set up at the Boston Peabody MarriottROOM BLOCK LINK HERE \nBoston Peabody Marriott8A Centennial DrivePeabody\, MA 01960Phone +1 978-977-9700(Group rate at Marriott available until sold our or Oct 22nd\, which ever comes first) \nBooking details:LINK COMING SOON!! (Will be here)Dates Available: Nov 12\, 2026 - Nov 16\, 2026LAST DAY TO BOOK: Wednesday Oct 22nd 2026 or when block is fullGroup Rate: Starting at $159 USD + applicable taxes per nightCheck-In: 4pmCheck-out: 12pmLimited rooms available\, secure your room before the block if full \nOther Area Hotels:Hampton Inn Salem Boston11 Dodge StreetSalem\, MA 01970Phone+1 978-414-3100 \nSalem Waterfront Hotel & Suites 225 Derby StreetSalem\, MA 01970Phone +1 978-740-8788 \nAirBnB options have been popularAddress of main event is58 Pulaski StreetPeabody\, MA 01960 \n			\n				\n				\n				\n				\n				 \nRETREAT PARTNERS & SPONSORS\n  \nMORE COMING SOON
URL:https://aibphotog.com/event/aibp-retreat-boston-2026/
LOCATION:Couture Black\, 58 Pulaski Street\, Peabody\, MA\, 01960\, United States
CATEGORIES:AIBP Education Events
ATTACH;FMTTYPE=image/jpeg:https://aibphotog.com/wp-content/uploads/2025/11/54f536ee-7e86-45b0-8a4e-035b610d3d6a.jpg
GEO:42.5410692;-70.9238509
X-APPLE-STRUCTURED-LOCATION;VALUE=URI;X-ADDRESS=Couture Black 58 Pulaski Street Peabody MA 01960 United States;X-APPLE-RADIUS=500;X-TITLE=58 Pulaski Street:geo:-70.9238509,42.5410692
END:VEVENT
END:VCALENDAR